BEGIN:VCALENDAR
VERSION:2.0
PRODID:icalendar-ruby
CALSCALE:GREGORIAN
BEGIN:VEVENT
DTSTAMP:20210118T212200Z
UID:dd48ba62-5003-490b-94bd-222e5d2d5392
DTSTART;VALUE=DATE:20191105
DESCRIPTION:Property ID# 464224\, Time: 4:30PM
SUMMARY:Auction for 
END:VEVENT
END:VCALENDAR
