BEGIN:VCALENDAR
VERSION:2.0
PRODID:icalendar-ruby
CALSCALE:GREGORIAN
BEGIN:VEVENT
DTSTAMP:20210118T212214Z
UID:9b14e07d-a922-4faa-a4fb-f1a5c13fead5
DTSTART;VALUE=DATE:20191114
DESCRIPTION:Property ID# 465783\, Time: 12:30PM
SUMMARY:Auction for 
END:VEVENT
END:VCALENDAR
