BEGIN:VCALENDAR
VERSION:2.0
PRODID:icalendar-ruby
CALSCALE:GREGORIAN
BEGIN:VEVENT
DTSTAMP:20210118T211612Z
UID:287803f2-0a6e-4e0f-9ab2-465c09f0179a
DTSTART;VALUE=DATE:20200129
DESCRIPTION:Property ID# 470620\, Time: 12:00PM
SUMMARY:Auction for 
END:VEVENT
END:VCALENDAR
