BEGIN:VCALENDAR
VERSION:2.0
PRODID:icalendar-ruby
CALSCALE:GREGORIAN
BEGIN:VEVENT
DTSTAMP:20210118T211629Z
UID:8df4534f-aacd-40d2-9726-bb3a5ed57927
DTSTART;VALUE=DATE:20200317
DESCRIPTION:Property ID# 474894\, Locatoin: 9-11 Kings Crescent Lower Hutt\
 , Time: 12:00PM
SUMMARY:Auction for 
END:VEVENT
END:VCALENDAR
