BEGIN:VCALENDAR
VERSION:2.0
PRODID:icalendar-ruby
CALSCALE:GREGORIAN
BEGIN:VEVENT
DTSTAMP:20210118T211628Z
UID:08e82e56-7ea4-477a-823a-1059dc6d0fc1
DTSTART;VALUE=DATE:20200325
DESCRIPTION:Property ID# 475412\, Locatoin: 9-11 Kings Crescent Lower Hutt\
 , Time: 2:00PM
SUMMARY:Auction for 
END:VEVENT
END:VCALENDAR
