BEGIN:VCALENDAR
VERSION:2.0
PRODID:icalendar-ruby
CALSCALE:GREGORIAN
BEGIN:VEVENT
DTSTAMP:20210118T211701Z
UID:a8182064-2af8-4a8c-b58e-3eef2ba9a0ce
DTSTART;VALUE=DATE:20200827
DESCRIPTION:Property ID# 486958\, Time: 12:30PM
SUMMARY:Auction for 
END:VEVENT
END:VCALENDAR
