BEGIN:VCALENDAR
VERSION:2.0
PRODID:icalendar-ruby
CALSCALE:GREGORIAN
BEGIN:VEVENT
DTSTAMP:20210118T211627Z
UID:40b39b17-261d-4323-8ea4-c61b840b9d13
DTSTART;VALUE=DATE:20200826
DESCRIPTION:Property ID# 487589\, Locatoin: 9-11 Kings Crescent Lower Hutt\
 , Time: 1:00PM
SUMMARY:Auction for 
END:VEVENT
END:VCALENDAR
