BEGIN:VCALENDAR
VERSION:2.0
PRODID:icalendar-ruby
CALSCALE:GREGORIAN
BEGIN:VEVENT
DTSTAMP:20210118T211625Z
UID:e231c830-e039-489b-a762-a7a6a4091eb6
DTSTART;VALUE=DATE:20200909
DESCRIPTION:Property ID# 488585\, Locatoin: 9-11 Kings Crescent Lower Hutt\
 , Time: 1:00PM
SUMMARY:Auction for 
END:VEVENT
END:VCALENDAR
