BEGIN:VCALENDAR
VERSION:2.0
PRODID:icalendar-ruby
CALSCALE:GREGORIAN
BEGIN:VEVENT
DTSTAMP:20210118T211653Z
UID:264a2cd8-85f6-408b-b1bf-941fff09046c
DTSTART;VALUE=DATE:20201001
DESCRIPTION:Property ID# 488928\, Time: 12:30PM
SUMMARY:Auction for 
END:VEVENT
END:VCALENDAR
