BEGIN:VCALENDAR
VERSION:2.0
PRODID:icalendar-ruby
CALSCALE:GREGORIAN
BEGIN:VEVENT
DTSTAMP:20210118T211623Z
UID:0e04f2b8-dffb-4205-b885-2df4c49db972
DTSTART;VALUE=DATE:20200916
DESCRIPTION:Property ID# 489008\, Locatoin: 9-11 Kings Crescent Lower Hutt\
 , Time: 12:00PM
SUMMARY:Auction for 
END:VEVENT
END:VCALENDAR
