BEGIN:VCALENDAR
VERSION:2.0
PRODID:icalendar-ruby
CALSCALE:GREGORIAN
BEGIN:VEVENT
DTSTAMP:20210118T211604Z
UID:193b66fd-b09a-4e08-9d15-d78b53ef1baf
DTSTART;VALUE=DATE:20201008
DESCRIPTION:Property ID# 490098\, Time: 12:30PM
SUMMARY:Auction for 
END:VEVENT
END:VCALENDAR
