BEGIN:VCALENDAR
VERSION:2.0
PRODID:icalendar-ruby
CALSCALE:GREGORIAN
BEGIN:VEVENT
DTSTAMP:20210118T211622Z
UID:14cb0c63-63c6-475c-934a-1139f2f55b4a
DTSTART;VALUE=DATE:20200930
DESCRIPTION:Property ID# 490313\, Locatoin: 9-11 Kings Crescent Lower Hutt\
 , Time: 1:00PM
SUMMARY:Auction for 
END:VEVENT
END:VCALENDAR
