BEGIN:VCALENDAR
VERSION:2.0
PRODID:icalendar-ruby
CALSCALE:GREGORIAN
BEGIN:VEVENT
DTSTAMP:20210118T211620Z
UID:ce0ea6ba-acf7-4f03-bf36-de37ad5ae68d
DTSTART;VALUE=DATE:20201007
DESCRIPTION:Property ID# 490314\, Locatoin: 9-11 Kings Crescent Lower Hutt\
 , Time: 1:00PM
SUMMARY:Auction for 
END:VEVENT
END:VCALENDAR
