BEGIN:VCALENDAR
VERSION:2.0
PRODID:icalendar-ruby
CALSCALE:GREGORIAN
BEGIN:VEVENT
DTSTAMP:20210118T211611Z
UID:1d2a10cb-228c-42a0-a63f-6f32e9d93299
DTSTART;VALUE=DATE:20201015
DESCRIPTION:Property ID# 490678\, Time: 1:00PM
SUMMARY:Auction for 
END:VEVENT
END:VCALENDAR
