BEGIN:VCALENDAR
VERSION:2.0
PRODID:icalendar-ruby
CALSCALE:GREGORIAN
BEGIN:VEVENT
DTSTAMP:20210118T211713Z
UID:5bb02139-c1ab-49b7-a235-4b6a9adc46dd
DTSTART;VALUE=DATE:20201029
DESCRIPTION:Property ID# 492114\, Time: 12:00PM
SUMMARY:Auction for 
END:VEVENT
END:VCALENDAR
