BEGIN:VCALENDAR
VERSION:2.0
PRODID:icalendar-ruby
CALSCALE:GREGORIAN
BEGIN:VEVENT
DTSTAMP:20210118T211645Z
UID:bef9e313-c3d9-4ea5-a9d3-634222def6be
DTSTART;VALUE=DATE:20201105
DESCRIPTION:Property ID# 492899\, Time: 12:30PM
SUMMARY:Auction for 
END:VEVENT
END:VCALENDAR
