BEGIN:VCALENDAR
VERSION:2.0
PRODID:icalendar-ruby
CALSCALE:GREGORIAN
BEGIN:VEVENT
DTSTAMP:20210118T211644Z
UID:e8d3f7f0-dfb8-4ef8-9b2a-a942d40eab1c
DTSTART;VALUE=DATE:20201112
DESCRIPTION:Property ID# 493193\, Time: 12:30PM
SUMMARY:Auction for 
END:VEVENT
END:VCALENDAR
