BEGIN:VCALENDAR
VERSION:2.0
PRODID:icalendar-ruby
CALSCALE:GREGORIAN
BEGIN:VEVENT
DTSTAMP:20210118T211658Z
UID:5d36fe74-a4d1-46a0-b851-5bc55759019c
DTSTART;VALUE=DATE:20201022
DESCRIPTION:Property ID# 493196\, Time: 12:30PM
SUMMARY:Auction for 
END:VEVENT
END:VCALENDAR
