BEGIN:VCALENDAR
VERSION:2.0
PRODID:icalendar-ruby
CALSCALE:GREGORIAN
BEGIN:VEVENT
DTSTAMP:20210118T211656Z
UID:d931499b-ae6b-42ad-ae1a-75142fb68bc1
DTSTART;VALUE=DATE:20201119
DESCRIPTION:Property ID# 493800\, Time: 12:30PM
SUMMARY:Auction for 
END:VEVENT
END:VCALENDAR
