BEGIN:VCALENDAR
VERSION:2.0
PRODID:icalendar-ruby
CALSCALE:GREGORIAN
BEGIN:VEVENT
DTSTAMP:20210118T211640Z
UID:382bce9e-d90d-4b13-9559-78bf878e6d8d
DTSTART;VALUE=DATE:20201126
DESCRIPTION:Property ID# 494324\, Time: 12:30PM
SUMMARY:Auction for 
END:VEVENT
END:VCALENDAR
