BEGIN:VCALENDAR
VERSION:2.0
PRODID:icalendar-ruby
CALSCALE:GREGORIAN
BEGIN:VEVENT
DTSTAMP:20210118T212207Z
UID:71d2f373-c1b5-4e78-b7ad-e42d60e373e2
DTSTART;VALUE=DATE:20201208
DESCRIPTION:Property ID# 494902\, Time: 1:00PM
SUMMARY:Auction for 
END:VEVENT
END:VCALENDAR
