BEGIN:VCALENDAR
VERSION:2.0
PRODID:icalendar-ruby
CALSCALE:GREGORIAN
BEGIN:VEVENT
DTSTAMP:20210118T212150Z
UID:b1d40843-b6cc-403c-bfa7-fd58c2c8b9f2
DTSTART;VALUE=DATE:20201203
DESCRIPTION:Property ID# 496259\, Time: 12:30PM
SUMMARY:Auction for 
END:VEVENT
END:VCALENDAR
