BEGIN:VCALENDAR
VERSION:2.0
PRODID:icalendar-ruby
CALSCALE:GREGORIAN
BEGIN:VEVENT
DTSTAMP:20210118T211637Z
UID:f38cd601-e1f7-4e35-b3f8-899ca943b56d
DTSTART;VALUE=DATE:20201214
DESCRIPTION:Property ID# 496427\, Time: 12:30PM
SUMMARY:Auction for 
END:VEVENT
END:VCALENDAR
