BEGIN:VCALENDAR
VERSION:2.0
PRODID:icalendar-ruby
CALSCALE:GREGORIAN
BEGIN:VEVENT
DTSTAMP:20210118T211635Z
UID:5fde3b59-b5b1-4477-a6f9-266cb40473c7
DTSTART;VALUE=DATE:20201205
DESCRIPTION:Property ID# 497240\, Time: 2:00PM
SUMMARY:Auction for 
END:VEVENT
END:VCALENDAR
