BEGIN:VCALENDAR
VERSION:2.0
PRODID:icalendar-ruby
CALSCALE:GREGORIAN
BEGIN:VEVENT
DTSTAMP:20210118T211655Z
UID:d3f5308b-7a84-4ecb-92ad-ff2e3d15bbf4
DTSTART;VALUE=DATE:20201210
DESCRIPTION:Property ID# 497347\, Time: 12:30PM
SUMMARY:Auction for 
END:VEVENT
END:VCALENDAR
