BEGIN:VCALENDAR
VERSION:2.0
PRODID:icalendar-ruby
CALSCALE:GREGORIAN
BEGIN:VEVENT
DTSTAMP:20210118T211711Z
UID:265dc11e-3e77-401a-ba17-d19aff51762f
DTSTART;VALUE=DATE:20201217
DESCRIPTION:Property ID# 498059\, Time: 1:00PM
SUMMARY:Auction for 
END:VEVENT
END:VCALENDAR
