BEGIN:VCALENDAR
VERSION:2.0
PRODID:icalendar-ruby
CALSCALE:GREGORIAN
BEGIN:VEVENT
DTSTAMP:20210118T211619Z
UID:401795c2-0011-4efd-871e-0ae7391f3951
DTSTART;VALUE=DATE:20210120
DESCRIPTION:Property ID# 499275\, Locatoin: 9-11 Kings Crescent Lower Hutt\
 , Time: 1:00PM
SUMMARY:Auction for 
END:VEVENT
END:VCALENDAR
