BEGIN:VCALENDAR
VERSION:2.0
PRODID:icalendar-ruby
CALSCALE:GREGORIAN
BEGIN:VEVENT
DTSTAMP:20210118T210932Z
UID:cd49aba5-5117-40ef-9666-569c84a261f3
DTSTART;VALUE=DATE:20210202
DESCRIPTION:Property ID# 499457\, Locatoin: 9-11 Kings Crescent Lower Hutt\
 , Time: 1:00PM
SUMMARY:Auction for 
END:VEVENT
END:VCALENDAR
