BEGIN:VCALENDAR
VERSION:2.0
PRODID:icalendar-ruby
CALSCALE:GREGORIAN
BEGIN:VEVENT
DTSTAMP:20210118T212205Z
UID:d351dc8b-75d7-4b0c-8f2a-1a6d86a96263
DTSTART;VALUE=DATE:20210128
DESCRIPTION:Property ID# 499458\, Time: 3:00AM
SUMMARY:Auction for 16 Otira Grove
END:VEVENT
END:VCALENDAR
