BEGIN:VCALENDAR
VERSION:2.0
PRODID:icalendar-ruby
CALSCALE:GREGORIAN
BEGIN:VEVENT
DTSTAMP:20210118T210923Z
UID:fc1f6eb4-1e2f-4132-9364-fb6acef72ec8
DTSTART;VALUE=DATE:20210204
DESCRIPTION:Property ID# 499553\, Locatoin: Ray White 9/11 Kings Crescent\,
  Lower Hutt\, Time: 12:00PM
SUMMARY:Auction for 40a Cambridge tce
END:VEVENT
END:VCALENDAR
