BEGIN:VCALENDAR
VERSION:2.0
PRODID:icalendar-ruby
CALSCALE:GREGORIAN
BEGIN:VEVENT
DTSTAMP:20210118T212203Z
UID:a33e9003-a329-4bd2-ac98-50c848dff3a4
DTSTART;TZID=Pacific/Auckland:20210117T130000
DTEND;TZID=Pacific/Auckland:20210117T134500
DESCRIPTION:Property ID# 499458
SUMMARY:Openhome for 16 Otira Grove
END:VEVENT
END:VCALENDAR
