BEGIN:VCALENDAR
VERSION:2.0
PRODID:icalendar-ruby
CALSCALE:GREGORIAN
BEGIN:VEVENT
DTSTAMP:20210118T211705Z
UID:88a6f82e-0db3-4745-b9b9-9eeff01d1582
DTSTART;TZID=Pacific/Auckland:20210117T123000
DTEND;TZID=Pacific/Auckland:20210117T130000
DESCRIPTION:Property ID# 499708
SUMMARY:Openhome for 7B Gurney Road
END:VEVENT
END:VCALENDAR
