BEGIN:VCALENDAR
VERSION:2.0
PRODID:icalendar-ruby
CALSCALE:GREGORIAN
BEGIN:VEVENT
DTSTAMP:20210118T212216Z
UID:678c01bb-b009-4e9c-8bfd-7c02dac2b585
DTSTART;TZID=Pacific/Auckland:20210117T133000
DTEND;TZID=Pacific/Auckland:20210117T140000
DESCRIPTION:Property ID# 499712
SUMMARY:Openhome for 65 Chapman Street
END:VEVENT
END:VCALENDAR
