BEGIN:VCALENDAR
VERSION:2.0
PRODID:icalendar-ruby
CALSCALE:GREGORIAN
BEGIN:VEVENT
DTSTAMP:20210118T211614Z
UID:1f784af6-6e64-44a6-b354-e0d9019fbd0c
DTSTART;TZID=Pacific/Auckland:20210124T120000
DTEND;TZID=Pacific/Auckland:20210124T124500
DESCRIPTION:Property ID# 499956
SUMMARY:Openhome for A/24 Mount Marua Way
END:VEVENT
END:VCALENDAR
