BEGIN:VCALENDAR
VERSION:2.0
PRODID:icalendar-ruby
CALSCALE:GREGORIAN
BEGIN:VEVENT
DTSTAMP:20210118T210927Z
UID:23e420ef-6ad6-4a21-8bf9-cd98566b304f
DTSTART;TZID=Pacific/Auckland:20210124T131500
DTEND;TZID=Pacific/Auckland:20210124T140000
DESCRIPTION:Property ID# 499049
SUMMARY:Openhome for 17 Norfolk Street
END:VEVENT
END:VCALENDAR
