BEGIN:VCALENDAR
VERSION:2.0
PRODID:icalendar-ruby
CALSCALE:GREGORIAN
BEGIN:VEVENT
DTSTAMP:20210118T210947Z
UID:c4d5cd1a-a97f-47a9-8a45-57009dcd6573
DTSTART;TZID=Pacific/Auckland:20210123T130000
DTEND;TZID=Pacific/Auckland:20210123T133000
DESCRIPTION:Property ID# 499397
SUMMARY:Openhome for 23 Picasso Grove
END:VEVENT
END:VCALENDAR
