BEGIN:VCALENDAR
VERSION:2.0
PRODID:icalendar-ruby
CALSCALE:GREGORIAN
BEGIN:VEVENT
DTSTAMP:20210118T211702Z
UID:3dd7b77d-c3ea-48ca-8e2b-9e24e65fcfaf
DTSTART;TZID=Pacific/Auckland:20210124T114500
DTEND;TZID=Pacific/Auckland:20210124T121500
DESCRIPTION:Property ID# 499970
SUMMARY:Openhome for 13 Otira Grove
END:VEVENT
END:VCALENDAR
