BEGIN:VCALENDAR
VERSION:2.0
PRODID:icalendar-ruby
CALSCALE:GREGORIAN
BEGIN:VEVENT
DTSTAMP:20210118T210939Z
UID:2efcc28a-6158-4a22-9071-da8f0772730e
DTSTART;TZID=Pacific/Auckland:20210121T173000
DTEND;TZID=Pacific/Auckland:20210121T181500
DESCRIPTION:Property ID# 499455
SUMMARY:Openhome for 177 Tirohanga Road
END:VEVENT
END:VCALENDAR
