BEGIN:VCALENDAR
VERSION:2.0
PRODID:icalendar-ruby
CALSCALE:GREGORIAN
BEGIN:VEVENT
DTSTAMP:20210118T211709Z
UID:3fd57943-3eab-4408-a419-31aea56a4ca6
DTSTART;TZID=Pacific/Auckland:20210124T110000
DTEND;TZID=Pacific/Auckland:20210124T113000
DESCRIPTION:Property ID# 498744
SUMMARY:Openhome for 2/259 Major Drive
END:VEVENT
END:VCALENDAR
