BEGIN:VCALENDAR
VERSION:2.0
PRODID:icalendar-ruby
CALSCALE:GREGORIAN
BEGIN:VEVENT
DTSTAMP:20210118T212157Z
UID:cecf0481-2197-438c-85fe-883810f6f213
DTSTART;TZID=Pacific/Auckland:20210124T100000
DTEND;TZID=Pacific/Auckland:20210124T103000
DESCRIPTION:Property ID# 498530
SUMMARY:Openhome for 34 McBain Grove
END:VEVENT
END:VCALENDAR
