BEGIN:VCALENDAR
VERSION:2.0
PRODID:icalendar-ruby
CALSCALE:GREGORIAN
BEGIN:VEVENT
DTSTAMP:20210118T212226Z
UID:ade8115f-2821-4ec7-89cb-c90603782560
DTSTART;TZID=Pacific/Auckland:20210124T133000
DTEND;TZID=Pacific/Auckland:20210124T140000
DESCRIPTION:Property ID# 495251
SUMMARY:Openhome for 1/8 Swainson Street
END:VEVENT
END:VCALENDAR
