BEGIN:VCALENDAR
VERSION:2.0
PRODID:icalendar-ruby
CALSCALE:GREGORIAN
BEGIN:VEVENT
DTSTAMP:20210118T210919Z
UID:cc9da4f2-a228-433d-a6cc-3097ad2c97ed
DTSTART;TZID=Pacific/Auckland:20210124T131500
DTEND;TZID=Pacific/Auckland:20210124T134500
DESCRIPTION:Property ID# 499958
SUMMARY:Openhome for 37 Mandel Mews
END:VEVENT
END:VCALENDAR
