BEGIN:VCALENDAR
VERSION:2.0
PRODID:icalendar-ruby
CALSCALE:GREGORIAN
BEGIN:VEVENT
DTSTAMP:20260425T020156Z
UID:960b0c6c-0352-4bbe-a462-f973328d0736
DTSTART;VALUE=DATE:20191004
DESCRIPTION:Property ID# 461908\, Locatoin: Harcourts 516 High Street Lower
  Hutt\, Time: 4:00PM
SUMMARY:Auction for 
END:VEVENT
END:VCALENDAR
