BEGIN:VCALENDAR
VERSION:2.0
PRODID:icalendar-ruby
CALSCALE:GREGORIAN
BEGIN:VEVENT
DTSTAMP:20260423T214607Z
UID:d4daafe5-a32f-4969-88dd-3b2708ce1219
DTSTART;VALUE=DATE:20200716
DESCRIPTION:Property ID# 484850\, Locatoin: Ray White Leaders\, 9-11 Kings 
 Crescent LOWER HUTT\, Time: 4:00PM
SUMMARY:Auction for 
END:VEVENT
END:VCALENDAR
