BEGIN:VCALENDAR
VERSION:2.0
PRODID:icalendar-ruby
CALSCALE:GREGORIAN
BEGIN:VEVENT
DTSTAMP:20260423T214251Z
UID:e642766a-2eda-4fbc-a80b-c8a7290de332
DTSTART;VALUE=DATE:20200903
DESCRIPTION:Property ID# 487602\, Locatoin: Ray White Leaders\, 9-11 Kings 
 Cres LOWER HUTT\, Time: 3:00PM
SUMMARY:Auction for 
END:VEVENT
END:VCALENDAR
