BEGIN:VCALENDAR
VERSION:2.0
PRODID:icalendar-ruby
CALSCALE:GREGORIAN
BEGIN:VEVENT
DTSTAMP:20260423T214455Z
UID:15108490-94db-456e-8d2d-aa3fd71ae82f
DTSTART;VALUE=DATE:20210223
DESCRIPTION:Property ID# 501602\, Locatoin: Ray White Leaders\, 9-11 Kings 
 Crescent LOWER HUTT\, Time: 1:00PM
SUMMARY:Auction for 
END:VEVENT
END:VCALENDAR
