BEGIN:VCALENDAR
VERSION:2.0
PRODID:icalendar-ruby
CALSCALE:GREGORIAN
BEGIN:VEVENT
DTSTAMP:20260423T213944Z
UID:56952cdf-b527-4454-9997-f0c7d0349ac1
DTSTART;VALUE=DATE:20210423
DESCRIPTION:Property ID# 507100\, Locatoin: Ray White Leaders\, 9- 11 Kings
  Crescent Lower Hutt \, Time: 1:00PM
SUMMARY:Auction for 
END:VEVENT
END:VCALENDAR
