BEGIN:VCALENDAR
VERSION:2.0
PRODID:icalendar-ruby
CALSCALE:GREGORIAN
BEGIN:VEVENT
DTSTAMP:20260423T214811Z
UID:a41ff177-8f08-4fa2-880a-c19e383765f3
DTSTART;VALUE=DATE:20211207
DESCRIPTION:Property ID# 523734\, Locatoin: Ray White Leaders\, 9-11 KIngs 
 Crescent Lower Hutt\, Time: 4:00PM
SUMMARY:Auction for 
END:VEVENT
END:VCALENDAR
