BEGIN:VCALENDAR
VERSION:2.0
PRODID:icalendar-ruby
CALSCALE:GREGORIAN
BEGIN:VEVENT
DTSTAMP:20260421T080504Z
UID:5e9145d0-abe9-470c-80d5-62e5fa35b75a
DTSTART;VALUE=DATE:20221214
DESCRIPTION:Property ID# 548772\, Locatoin: 43 Maclean Street\, Paraparaumu
  Beach\, 5032\, Time: 2:00PM
SUMMARY:Auction for 
END:VEVENT
END:VCALENDAR
