BEGIN:VCALENDAR
VERSION:2.0
PRODID:icalendar-ruby
CALSCALE:GREGORIAN
BEGIN:VEVENT
DTSTAMP:20260423T213913Z
UID:617ef17e-6968-410e-94fb-156980f9d33f
DTSTART;VALUE=DATE:20230830
DESCRIPTION:Property ID# 560936\, Locatoin: Ray White Leaders 9-11 KIngs Cr
 es Lower Hutt\, Time: 4:00PM
SUMMARY:Auction for 
END:VEVENT
END:VCALENDAR
